BEGIN:VCALENDAR
VERSION:2.0
PRODID:-//Bay Area Boomers - ECPv6.15.20//NONSGML v1.0//EN
CALSCALE:GREGORIAN
METHOD:PUBLISH
X-WR-CALNAME:Bay Area Boomers
X-ORIGINAL-URL:https://bayareaboomers.com
X-WR-CALDESC:Events for Bay Area Boomers
REFRESH-INTERVAL;VALUE=DURATION:PT1H
X-Robots-Tag:noindex
X-PUBLISHED-TTL:PT1H
BEGIN:VTIMEZONE
TZID:America/Los_Angeles
BEGIN:DAYLIGHT
TZOFFSETFROM:-0800
TZOFFSETTO:-0700
TZNAME:PDT
DTSTART:20250309T100000
END:DAYLIGHT
BEGIN:STANDARD
TZOFFSETFROM:-0700
TZOFFSETTO:-0800
TZNAME:PST
DTSTART:20251102T090000
END:STANDARD
BEGIN:DAYLIGHT
TZOFFSETFROM:-0800
TZOFFSETTO:-0700
TZNAME:PDT
DTSTART:20260308T100000
END:DAYLIGHT
BEGIN:STANDARD
TZOFFSETFROM:-0700
TZOFFSETTO:-0800
TZNAME:PST
DTSTART:20261101T090000
END:STANDARD
BEGIN:DAYLIGHT
TZOFFSETFROM:-0800
TZOFFSETTO:-0700
TZNAME:PDT
DTSTART:20270314T100000
END:DAYLIGHT
BEGIN:STANDARD
TZOFFSETFROM:-0700
TZOFFSETTO:-0800
TZNAME:PST
DTSTART:20271107T090000
END:STANDARD
END:VTIMEZONE
BEGIN:VEVENT
DTSTART;TZID=America/Los_Angeles:20260704T090000
DTEND;TZID=America/Los_Angeles:20260704T214500
DTSTAMP:20260424T031613
CREATED:20260301T031932Z
LAST-MODIFIED:20260302T170811Z
UID:10000069-1783155600-1783201500@bayareaboomers.com
SUMMARY:Foster City 4th of July Celebration 2026
DESCRIPTION:Foster City’s beloved all-day Independence Day celebration at Leo Ryan Park drawing 20\,000+ attendees. Full program: Rotary Club Pancake Breakfast (9am); Family & Dog Parade from The Vibe to Amphitheater (11am); Kids Play Zone (11:30am); afternoon live music by local band (4:15–5:45pm); Country Music Headliner Concert (7:15–9:15pm); and fireworks show expected to return for 2026 over Foster City Lagoon at 9:30pm (suspended in 2025 due to Community Center construction). Note: All personal fireworks strictly banned in Foster City. Presented by Foster City Parks & Recreation\, Lions of Foster City\, and the Foster City Rotary Club.
URL:https://bayareaboomers.com/event/foster-city-4th-of-july-celebration-2026/
LOCATION:Leo J. Ryan Park\, 650 Shell Blvd\, Foster City\, CA\, 94404\, United States
ORGANIZER;CN="City of Foster City Parks & Recreation / Lions of Foster City":MAILTO:recreation@fostercity.org
END:VEVENT
BEGIN:VEVENT
DTSTART;TZID=America/Los_Angeles:20260704T100000
DTEND;TZID=America/Los_Angeles:20260704T120000
DTSTAMP:20260424T031613
CREATED:20260301T031945Z
LAST-MODIFIED:20260301T044718Z
UID:10000054-1783159200-1783166400@bayareaboomers.com
SUMMARY:Woodside 4th of July Parade 2026
DESCRIPTION:The quintessential small-town Independence Day celebration through the redwood-shaded streets of Woodside Village — a beloved annual tradition featuring a community parade with horses and equestrian riders\, decorated floats\, marching bands\, antique and classic vehicles\, and hometown spirit. One of the Bay Area’s most charming and low-key Fourth of July traditions.
URL:https://bayareaboomers.com/event/woodside-4th-of-july-parade-2026/
LOCATION:Woodside Village\, Woodside Rd\, Woodside\, CA\, 94062\, United States
CATEGORIES:San Mateo County
END:VEVENT
BEGIN:VEVENT
DTSTART;TZID=America/Los_Angeles:20260704T170000
DTEND;TZID=America/Los_Angeles:20260704T220000
DTSTAMP:20260424T031613
CREATED:20260301T031957Z
LAST-MODIFIED:20260301T041656Z
UID:10000043-1783184400-1783202400@bayareaboomers.com
SUMMARY:San Bruno 4th of July Fireworks 2026
DESCRIPTION:San Bruno’s annual Fourth of July celebration featuring an evening of live entertainment\, community activities\, and a fireworks show illuminating the sky over San Francisco Bay. Join thousands of San Bruno residents at the city’s signature summer gathering.
URL:https://bayareaboomers.com/event/san-bruno-4th-of-july-fireworks-2026/
LOCATION:San Bruno City Park\, 1151 Crystal Springs Rd\, San Bruno\, CA\, 94066\, United States
CATEGORIES:San Mateo County
END:VEVENT
END:VCALENDAR